BEGIN:VCALENDAR
VERSION:2.0
PRODID:-//PA Trolley Museum - ECPv6.15.11//NONSGML v1.0//EN
CALSCALE:GREGORIAN
METHOD:PUBLISH
X-WR-CALNAME:PA Trolley Museum
X-ORIGINAL-URL:https://pa-trolley.org
X-WR-CALDESC:Events for PA Trolley Museum
REFRESH-INTERVAL;VALUE=DURATION:PT1H
X-Robots-Tag:noindex
X-PUBLISHED-TTL:PT1H
BEGIN:VTIMEZONE
TZID:America/New_York
BEGIN:DAYLIGHT
TZOFFSETFROM:-0500
TZOFFSETTO:-0400
TZNAME:EDT
DTSTART:20250309T070000
END:DAYLIGHT
BEGIN:STANDARD
TZOFFSETFROM:-0400
TZOFFSETTO:-0500
TZNAME:EST
DTSTART:20251102T060000
END:STANDARD
BEGIN:DAYLIGHT
TZOFFSETFROM:-0500
TZOFFSETTO:-0400
TZNAME:EDT
DTSTART:20260308T070000
END:DAYLIGHT
BEGIN:STANDARD
TZOFFSETFROM:-0400
TZOFFSETTO:-0500
TZNAME:EST
DTSTART:20261101T060000
END:STANDARD
BEGIN:DAYLIGHT
TZOFFSETFROM:-0500
TZOFFSETTO:-0400
TZNAME:EDT
DTSTART:20270314T070000
END:DAYLIGHT
BEGIN:STANDARD
TZOFFSETFROM:-0400
TZOFFSETTO:-0500
TZNAME:EST
DTSTART:20271107T060000
END:STANDARD
END:VTIMEZONE
BEGIN:VEVENT
DTSTART;TZID=America/New_York:20260503T100000
DTEND;TZID=America/New_York:20260503T160000
DTSTAMP:20260422T140607
CREATED:20260409T153640Z
LAST-MODIFIED:20260409T153640Z
UID:10002781-1777802400-1777824000@pa-trolley.org
SUMMARY:Free Kid May
DESCRIPTION:Kids visit for free in May 2026!\n\nThanks to our sponsor\, the Dollar Bank Foundation\, we’re offering free admission in May 2026 to kids ages 0-17. \nEnjoy a scenic 4-mile round-trip ride on an antique trolley\, discover our collection of historic streetcars\, and explore our interactive games and exhibits.  Also\, dive into trolley history with a guided tour\, check out our museum gift shop\, and play and picnic at our Barry Stout Park and playground. \nDuring May\, we’ll be open Thursday-Sunday\, as well as Monday\, May 25th for Memorial Day. \nClick here to see our General Admission rates for Adults and Seniors and to plan your visit.
URL:https://pa-trolley.org/event/free-kid-may/2026-05-03/
LOCATION:Pennsylvania Trolley Museum\, 1 Electric Way\, Washington\, PA\, 15301\, United States
ATTACH;FMTTYPE=image/jpeg:https://pa-trolley.org/wp-content/uploads/2026/04/Free-Kid-May-Horizontal.jpg
END:VEVENT
END:VCALENDAR