BEGIN:VCALENDAR
VERSION:2.0
PRODID:-//PA Trolley Museum - ECPv6.15.11//NONSGML v1.0//EN
CALSCALE:GREGORIAN
METHOD:PUBLISH
X-WR-CALNAME:PA Trolley Museum
X-ORIGINAL-URL:https://pa-trolley.org
X-WR-CALDESC:Events for PA Trolley Museum
REFRESH-INTERVAL;VALUE=DURATION:PT1H
X-Robots-Tag:noindex
X-PUBLISHED-TTL:PT1H
BEGIN:VTIMEZONE
TZID:America/New_York
BEGIN:DAYLIGHT
TZOFFSETFROM:-0500
TZOFFSETTO:-0400
TZNAME:EDT
DTSTART:20250309T070000
END:DAYLIGHT
BEGIN:STANDARD
TZOFFSETFROM:-0400
TZOFFSETTO:-0500
TZNAME:EST
DTSTART:20251102T060000
END:STANDARD
BEGIN:DAYLIGHT
TZOFFSETFROM:-0500
TZOFFSETTO:-0400
TZNAME:EDT
DTSTART:20260308T070000
END:DAYLIGHT
BEGIN:STANDARD
TZOFFSETFROM:-0400
TZOFFSETTO:-0500
TZNAME:EST
DTSTART:20261101T060000
END:STANDARD
BEGIN:DAYLIGHT
TZOFFSETFROM:-0500
TZOFFSETTO:-0400
TZNAME:EDT
DTSTART:20270314T070000
END:DAYLIGHT
BEGIN:STANDARD
TZOFFSETFROM:-0400
TZOFFSETTO:-0500
TZNAME:EST
DTSTART:20271107T060000
END:STANDARD
END:VTIMEZONE
BEGIN:VEVENT
DTSTART;TZID=America/New_York:20260502T090000
DTEND;TZID=America/New_York:20260502T120000
DTSTAMP:20260422T152525
CREATED:20260107T164106Z
LAST-MODIFIED:20260304T195425Z
UID:10002715-1777712400-1777723200@pa-trolley.org
SUMMARY:BSA Railroading
DESCRIPTION:BSA Railroading \nSaturday\, May 2nd\n9:00 AM – 12:00 PM \nCost: $25 per Scout\, $15 per chaperone \nThis merit badge workshop is open to any youth in grades 6th – 12th grade and is designed to help BSA scouts meet requirements for the Railroading merit badge. We will be covering ALL requirements for this merit badge! While there are no pre-requisites\, we strongly encourage participating Scouts to review the Railroading Merit Badge Requirements and workbook prior to the workshop. Requirements 8b parts 1 and 2 will be fulfilled by visiting the Pennsylvania Trolley Museum. Scouts should bring a phone or camera\, or can use drawing materials provided by the museum. \nBSA Railroading Requirements \nBSA Railroading Workbook \n  \nClick HERE to register!
URL:https://pa-trolley.org/event/bsa-railroading-3/
LOCATION:Pennsylvania Trolley Museum\, 1 Electric Way\, Washington\, PA\, 15301\, United States
ATTACH;FMTTYPE=image/jpeg:https://pa-trolley.org/wp-content/uploads/2022/10/PXL_20231007_150912560.jpg
END:VEVENT
BEGIN:VEVENT
DTSTART;TZID=America/New_York:20260502T100000
DTEND;TZID=America/New_York:20260502T160000
DTSTAMP:20260422T152525
CREATED:20260409T153640Z
LAST-MODIFIED:20260409T153640Z
UID:10002780-1777716000-1777737600@pa-trolley.org
SUMMARY:Free Kid May
DESCRIPTION:Kids visit for free in May 2026!\n\nThanks to our sponsor\, the Dollar Bank Foundation\, we’re offering free admission in May 2026 to kids ages 0-17. \nEnjoy a scenic 4-mile round-trip ride on an antique trolley\, discover our collection of historic streetcars\, and explore our interactive games and exhibits.  Also\, dive into trolley history with a guided tour\, check out our museum gift shop\, and play and picnic at our Barry Stout Park and playground. \nDuring May\, we’ll be open Thursday-Sunday\, as well as Monday\, May 25th for Memorial Day. \nClick here to see our General Admission rates for Adults and Seniors and to plan your visit.
URL:https://pa-trolley.org/event/free-kid-may/2026-05-02/
LOCATION:Pennsylvania Trolley Museum\, 1 Electric Way\, Washington\, PA\, 15301\, United States
ATTACH;FMTTYPE=image/jpeg:https://pa-trolley.org/wp-content/uploads/2026/04/Free-Kid-May-Horizontal.jpg
END:VEVENT
BEGIN:VEVENT
DTSTART;TZID=America/New_York:20260502T130000
DTEND;TZID=America/New_York:20260502T160000
DTSTAMP:20260422T152525
CREATED:20260107T164243Z
LAST-MODIFIED:20260304T195449Z
UID:10002716-1777726800-1777737600@pa-trolley.org
SUMMARY:BSA Signs\, Signals\, and Codes
DESCRIPTION:Saturday\, May 2nd\n1:00 PM – 4:00 PM \nCost: $25 per Scout\, $15 per Chaperone \nThis merit badge workshop is open to any youth in grades 6th – 12th grade and is designed to help BSA scouts meet requirements for the Signs\, Signals\, and Codes merit badge. We will be covering requirements 1\, 2\, 3\, 4\, 5\, 6\, 8\, 9\, and 10. Practice communicating with semaphore flags\, Morse Code\, ASL\, rail hand signals\, and more! \nScouts are responsible for the following pre-requisites: 7. Scouts must create at least a 1-mile trail for a patrol or troop to follow that includes at least six different trail signs and markers. After Scouts have completed the trail\, follow no-trace principles by replacing or returning trail markers to their original locations. Scouts can write a short report about completing the requirement and should include pictures showing each trail sign and marker used for counselor approval. \nSigns\, Signals\, and Codes Merit Badge Requirements\nSigns\, Signals\, and Codes Merit Badge Workbook \nClick HERE to register!
URL:https://pa-trolley.org/event/bsa-signs-signals-and-codes-4/
LOCATION:Pennsylvania Trolley Museum\, 1 Electric Way\, Washington\, PA\, 15301\, United States
ATTACH;FMTTYPE=image/jpeg:https://pa-trolley.org/wp-content/uploads/2025/01/Trolleys-and-Semaphore-Flags.jpg
END:VEVENT
END:VCALENDAR