BEGIN:VCALENDAR
VERSION:2.0
PRODID:-//PA Trolley Museum - ECPv6.15.11//NONSGML v1.0//EN
CALSCALE:GREGORIAN
METHOD:PUBLISH
X-ORIGINAL-URL:https://pa-trolley.org
X-WR-CALDESC:Events for PA Trolley Museum
REFRESH-INTERVAL;VALUE=DURATION:PT1H
X-Robots-Tag:noindex
X-PUBLISHED-TTL:PT1H
BEGIN:VTIMEZONE
TZID:America/New_York
BEGIN:DAYLIGHT
TZOFFSETFROM:-0500
TZOFFSETTO:-0400
TZNAME:EDT
DTSTART:20250309T070000
END:DAYLIGHT
BEGIN:STANDARD
TZOFFSETFROM:-0400
TZOFFSETTO:-0500
TZNAME:EST
DTSTART:20251102T060000
END:STANDARD
BEGIN:DAYLIGHT
TZOFFSETFROM:-0500
TZOFFSETTO:-0400
TZNAME:EDT
DTSTART:20260308T070000
END:DAYLIGHT
BEGIN:STANDARD
TZOFFSETFROM:-0400
TZOFFSETTO:-0500
TZNAME:EST
DTSTART:20261101T060000
END:STANDARD
BEGIN:DAYLIGHT
TZOFFSETFROM:-0500
TZOFFSETTO:-0400
TZNAME:EDT
DTSTART:20270314T070000
END:DAYLIGHT
BEGIN:STANDARD
TZOFFSETFROM:-0400
TZOFFSETTO:-0500
TZNAME:EST
DTSTART:20271107T060000
END:STANDARD
END:VTIMEZONE
BEGIN:VEVENT
DTSTART;TZID=America/New_York:20260403T100000
DTEND;TZID=America/New_York:20260403T170000
DTSTAMP:20260422T151858
CREATED:20260203T165731Z
LAST-MODIFIED:20260319T134116Z
UID:10002740-1775210400-1775235600@pa-trolley.org
SUMMARY:Bunny Trolley
DESCRIPTION:Hop on over to the Museum for some springtime fun! \nVisitors to the museum during this event will have the opportunity to: \n\nHunt for giant eggs hidden along the landscape during trolley rides\nEnjoy an Easter-themed craft and snack\nMeet live rabbits\, thanks to the Four-Leaf 4-H Club\nTake a photo with the Easter Bunny!\nAnd\, for no additional cost\, get your face painted by Face Paint Pittsburgh (11 AM- 4 PM)\n\nThis event runs on March 27-29 and April 3-4 and is sponsored by Range Resources. \nThe Museum is open for this event from 10 AM to 5 PM\, but the Bunny will go back to his burrow at 4 PM. \nTickets\nBook online now! \nAdults: $23 \nSeniors (62+): $22 \nChildren (3-17): $22 \nToddlers (0-2): Free.  Must ride on the lap of an adult.  Please reserve free toddler tickets for all the toddlers in your party. \nMuseum Members can purchase Adult\, Senior\, and Child tickets at the discounted rate of $17.  Please log into our Member Portal and visit the “Member Discount Ticket” section to purchase your tickets. \nTimed tickets correspond to arrival time at the Museum.  You may ride the trolley whenever you’d like and as many times as you’d like during this event.
URL:https://pa-trolley.org/event/bunny-trolley-4/2026-04-03/
LOCATION:Pennsylvania Trolley Museum\, 1 Electric Way\, Washington\, PA\, 15301\, United States
ATTACH;FMTTYPE=image/jpeg:https://pa-trolley.org/wp-content/uploads/2026/02/Untitled-6-x-4-in-2.jpg
END:VEVENT
END:VCALENDAR